BEGIN:VCALENDAR
VERSION:2.0
PRODID:-//Snyder County Democratic Committee - ECPv6.15.20//NONSGML v1.0//EN
CALSCALE:GREGORIAN
METHOD:PUBLISH
X-ORIGINAL-URL:https://snydercountydems.com
X-WR-CALDESC:Events for Snyder County Democratic Committee
REFRESH-INTERVAL;VALUE=DURATION:PT1H
X-Robots-Tag:noindex
X-PUBLISHED-TTL:PT1H
BEGIN:VTIMEZONE
TZID:UTC
BEGIN:STANDARD
TZOFFSETFROM:+0000
TZOFFSETTO:+0000
TZNAME:UTC
DTSTART:20250101T000000
END:STANDARD
END:VTIMEZONE
BEGIN:VEVENT
DTSTART;TZID=UTC:20260225T100000
DTEND;TZID=UTC:20260225T113000
DTSTAMP:20260421T100718
CREATED:20260102T173124Z
LAST-MODIFIED:20260102T173136Z
UID:1360-1772013600-1772019000@snydercountydems.com
SUMMARY:Democratic Women's Breakfast
DESCRIPTION:Join our Women’s group for a time of community and strategy. Pre-registration is required due to seating at the restaurant. Coffee provided.
URL:https://snydercountydems.com/event/1360/
LOCATION:Denny’s\, 973 N Susquehanna Trail\, Selinsgrove\, PA\, 17870\, United States
ATTACH;FMTTYPE=image/png:https://snydercountydems.com/wp-content/uploads/2026/01/Democratic-Womens-breakfast528-6.png
END:VEVENT
BEGIN:VEVENT
DTSTART;TZID=UTC:20260225T183000
DTEND;TZID=UTC:20260225T193000
DTSTAMP:20260421T100718
CREATED:20260102T212129Z
LAST-MODIFIED:20260102T212129Z
UID:1373-1772044200-1772047800@snydercountydems.com
SUMMARY:Monthly Meeting
DESCRIPTION:Join us for our Monthly Business Meeting. All Democrats are welcomed. Petitions will be available to sign for the in-person attendees. Please consider bringing a nonperishable food item to donate if you are able.
URL:https://snydercountydems.com/event/monthly-meeting-10/
LOCATION:Snyder County East Building\, 713 Bridge Street\, Selinsgrove\, PA\, 17870\, United States
ATTACH;FMTTYPE=image/png:https://snydercountydems.com/wp-content/uploads/2026/01/Copy-of-Snyder-County-Democratic-Committee-5.png
END:VEVENT
END:VCALENDAR